BEGIN:VCALENDAR
VERSION:2.0
PRODID:-//eventon.com NONSGML v1.0//EN
BEGIN:VEVENT
UID:69e70ec5242b6
DTSTAMP:20260421T054437
DTSTART:20230422
DTEND:20230423
TZID:Europe/London
LOCATION:Northwest Large Scale Mythop Rd
SUMMARY:IR 2WD & 4WD Large Scale OR | Great Britain 🇬🇧
DESCRIPTION: Booking in open: https://www.brca.org/lsor-events Camping available on site On-site cafe Hotels near by please email for further info: Lsor.efra@brca.org http://northwestlargescale.co.uk/ Classes running 2WD Buggy 4WB Buggy Short Course Truck\nhttps://www.efra.ws/events/ir-2wd-4wd-or/
URL:https://www.efra.ws/events/ir-2wd-4wd-or/
END:VEVENT
END:VCALENDAR