BEGIN:VCALENDAR
VERSION:2.0
PRODID:-//eventon.com NONSGML v1.0//EN
BEGIN:VEVENT
UID:69e6b32c963ec
DTSTAMP:20260420T231348
DTSTART:20230724
DTEND:20230729
TZID:Europe/Madrid
LOCATION:
SUMMARY:EC 1/8 IC Track | Portugal 🇵🇹
DESCRIPTION: Detailed information about the facility at Villa Real and the EC 1/8 IC Track can be found here EFRA EC &#8211; Vila Real 2023 Please note that the tyre supplier has been changed to Capricorn. This change will be reflected in future documents. Practise tyres need to be pre- ordered..[..]\nhttps://www.efra.ws/events/ec-1-8-ic-track/
URL:https://www.efra.ws/events/ec-1-8-ic-track/
END:VEVENT
END:VCALENDAR