BEGIN:VCALENDAR
VERSION:2.0
PRODID:-//eventon.com NONSGML v1.0//EN
BEGIN:VEVENT
UID:69e74bbcce5fe
DTSTAMP:20260421T100444
DTSTART:20230802
DTEND:20230805
TZID:Europe/Berlin
LOCATION:Minicar Club Türkheim e.V Wörishoferstr. 40
SUMMARY:EC 1/10 Elec. Track | Germany 🇩🇪
DESCRIPTION: Important Tire news:  “It is now apparent that the chosen tyre for the Modified 10th ISTC EC could be in short supply for the event. &#8220;The reason is the total lack of a primary component to produce the compound which is unfortunately patented by only one company in the world[..]\nhttps://www.efra.ws/events/ec-1-10-el-track/
URL:https://www.efra.ws/events/ec-1-10-el-track/
END:VEVENT
END:VCALENDAR