BEGIN:VCALENDAR
VERSION:2.0
PRODID:-//eventon.com NONSGML v1.0//EN
BEGIN:VEVENT
UID:69e6c28042026
DTSTAMP:20260421T001912
DTSTART:20220603
DTEND:20220606
TZID:Pacific/Midway
LOCATION:Rc Redován Lugar Barrio San Carlos\,  146A\,  03370\,  Alicante\,  Spain
SUMMARY:IR Worlds Warm up 1/8 IC Off Road
DESCRIPTION: &nbsp; For download: STAGE-1-REPORT-RC-REDOVANv1.pdf Warm up for the Nitro Buggy World Championships More info from the 1/8 Off Road IFMAR Worlds will follow www.rc-redovan.com &nbsp; &nbsp; &nbsp; &nbsp;\nhttps://www.efra.ws/events/ir-warm-up-1-8-ic-off-road-redovan-spain/
URL:https://www.efra.ws/events/ir-warm-up-1-8-ic-off-road-redovan-spain/
END:VEVENT
END:VCALENDAR