BEGIN:VCALENDAR
VERSION:2.0
PRODID:-//eventon.com NONSGML v1.0//EN
BEGIN:VEVENT
UID:69e6c28c380b2
DTSTAMP:20260421T001924
DTSTART:20200403
DTEND:20200405
TZID:UTC
LOCATION:L.Collari Raceway Via Romita\,  2/15\,  40128\,  Bologna\,  ITALY
SUMMARY:GP 1/8 IC Track
DESCRIPTION: More info about the new race format for the EFRA GP&#8217;s in 1/8 and 1/10 will follow soon. www.collariraceway.it\nhttps://www.efra.ws/events/gp-1-8-ic-track-bologna-italy/
URL:https://www.efra.ws/events/gp-1-8-ic-track-bologna-italy/
END:VEVENT
END:VCALENDAR