BEGIN:VCALENDAR
VERSION:2.0
PRODID:-//eventon.com NONSGML v1.0//EN
BEGIN:VEVENT
UID:69e6d8a411d72
DTSTAMP:20260421T015340
DTSTART:20220527
DTEND:20220530
TZID:Pacific/Midway
LOCATION:MAC de Baanbrekers Baanvelden 10\,  4715 RH
SUMMARY:GP 1/8 and 1/10 IC Track
DESCRIPTION: EFRA Nitro Track GP returns to the Netherlands The provisional event timetable. is now available here Registration is open now here via MYRCM More info about the new race format for EFRA GP races will be added soon. macdebaanbrekers.nl\nhttps://www.efra.ws/events/gp-1-8-and-1-10-ic-track/
URL:https://www.efra.ws/events/gp-1-8-and-1-10-ic-track/
END:VEVENT
END:VCALENDAR