BEGIN:VCALENDAR
VERSION:2.0
PRODID:-//eventon.com NONSGML v1.0//EN
BEGIN:VEVENT
UID:69e6c298677cb
DTSTAMP:20260421T001936
DTSTART:20220506
DTEND:20220509
TZID:Pacific/Midway
LOCATION:Robin Hood Raceway S81 8EU
SUMMARY:International race Warm up 1/10 Elec. Off Road
DESCRIPTION: Warm up for the 1/10 Off Road Euros A lot of information from the Robin Hood Raceway venue is available on the pdf:  www.robinhoodraceway.com\nhttps://www.efra.ws/events/international-race-warm-up-1-10-elec-off-road/
URL:https://www.efra.ws/events/international-race-warm-up-1-10-elec-off-road/
END:VEVENT
END:VCALENDAR