BEGIN:VCALENDAR
VERSION:2.0
PRODID:-//eventon.com NONSGML v1.0//EN
BEGIN:VEVENT
UID:69e6bde62c461
DTSTAMP:20260420T235934
DTSTART:20260623
DTEND:20260627
TZID:Europe/Madrid
LOCATION:Club de Automodelismo Radiocontrol Todo Terreno P.º Alamedillas\,  8\,  Fuencarral-El Pardo\,  28034
SUMMARY:EC '26 A 1/8 Off Road Madrid\,  Spain 🇪🇸
DESCRIPTION: The host club for the 2026 European Championship for 1/8 Off Road\,  Club CARTT Fuencarral\,  has provided the Stage One Report for the event\,  scheduled for 23-27 June. The Stage One Report contains information about the track\,  accommodations nearby and travel information to the city of Madrid. More information will[..]\nhttps://www.efra.ws/events/ec-a-1-8-off-road-madrid-spain/
URL:https://www.efra.ws/events/ec-a-1-8-off-road-madrid-spain/
END:VEVENT
END:VCALENDAR