BEGIN:VCALENDAR
VERSION:2.0
PRODID:-//eventon.com NONSGML v1.0//EN
BEGIN:VEVENT
UID:69e6bc3d58405
DTSTAMP:20260420T235229
DTSTART:20260927
DTEND:20261003
TZID:Pacific/Midway
LOCATION:
SUMMARY:IFMAR WC '26 Austin Texas\,  USA 🇺🇸
DESCRIPTION: The organisers of the Nitro Buggy IFMAR Worlds have released the following stage report you can check out here [PDF Download]\nhttps://www.efra.ws/events/ifmar-wc-austin-texas-usa/
URL:https://www.efra.ws/events/ifmar-wc-austin-texas-usa/
END:VEVENT
END:VCALENDAR