BEGIN:VCALENDAR
VERSION:2.0
PRODID:-//eventon.com NONSGML v1.0//EN
BEGIN:VEVENT
UID:69e6bdeba53d4
DTSTAMP:20260420T235939
DTSTART:20260919
DTEND:20260920
TZID:Pacific/Midway
LOCATION:
SUMMARY:GP '26 Large Scale Open & Sport Leipzig\,  Germany 🇩🇪
DESCRIPTION: \nhttps://www.efra.ws/events/gp-large-scale-open-sport-leipzig-germany/
URL:https://www.efra.ws/events/gp-large-scale-open-sport-leipzig-germany/
END:VEVENT
END:VCALENDAR