BEGIN:VCALENDAR
VERSION:2.0
PRODID:-//eventon.com NONSGML v1.0//EN
BEGIN:VEVENT
UID:69e6bda62a1c2
DTSTAMP:20260420T235830
DTSTART:20260911
DTEND:20260913
TZID:Pacific/Midway
LOCATION:
SUMMARY:EC '26 1/8 Off Road 40+ Fehring\,  Austria 🇦🇹
DESCRIPTION: \nhttps://www.efra.ws/events/ec-1-8-off-road-40-fehring-austria/
URL:https://www.efra.ws/events/ec-1-8-off-road-40-fehring-austria/
END:VEVENT
END:VCALENDAR