BEGIN:VCALENDAR
VERSION:2.0
PRODID:-//eventon.com NONSGML v1.0//EN
BEGIN:VEVENT
UID:69e6bde42ee05
DTSTAMP:20260420T235932
DTSTART:20260906
DTEND:20260913
TZID:Europe/Rome
LOCATION:CLUB AUTOMODELLISTICO 5 COLLI LOC. COPPIOLO - 06024 - GUBBIO (PG)
SUMMARY:IFMAR WC '26 1/10 IC Track Gubbio\,  Italy 🇮🇹
DESCRIPTION: The host club for the 2026 World Championship for 1/10 IC Track\,  Club Automodellistico 5 Colli\,  has provided the Stage One Report for the event\,  scheduled for 6-13 September. Click here for the complete Stage One Report from the club! Additional information will be provided as it is received. Tyre[..]\nhttps://www.efra.ws/events/ifmar-wc-1-10-ic-track-gubbio-italy/
URL:https://www.efra.ws/events/ifmar-wc-1-10-ic-track-gubbio-italy/
END:VEVENT
END:VCALENDAR