BEGIN:VCALENDAR
VERSION:2.0
PRODID:-//eventon.com NONSGML v1.0//EN
BEGIN:VEVENT
UID:69e6bc32700ef
DTSTAMP:20260420T235218
DTSTART:20260828T104700Z
DTEND:20260830T104700Z
TZID:Europe/Lisbon
LOCATION:Club ACDB "OS Beiroes" Rua da Escola s/n
SUMMARY:EC B '26 Off Road Macainhas\,  Portugal 🇵🇹
DESCRIPTION: The host club for the 2026 European B Championship for 1/8 buggy\,  Club ACDB &#8220;OS BEIROES&#8221; has provided the Stage One Report for the event\,  scheduled for 28-30 August. The Stage One Report contains information about the track\,  accommodations nearby and travel information to the city of Macainhas. More information[..]\nhttps://www.efra.ws/events/ec-b-off-road-macainhas-portugal/
URL:https://www.efra.ws/events/ec-b-off-road-macainhas-portugal/
END:VEVENT
END:VCALENDAR