BEGIN:VCALENDAR
VERSION:2.0
PRODID:-//eventon.com NONSGML v1.0//EN
BEGIN:VEVENT
UID:69e6bdbec25ed
DTSTAMP:20260420T235854
DTSTART:20260806
DTEND:20260809
TZID:Europe/Luxembourg
LOCATION:Luxembourg Model Car Club Mini Circuit "Ville de Luxembourg"
SUMMARY:EC '26 1/10 Electric On Road Luxembourg 🇱🇺
DESCRIPTION: Warm up event! The Host is running the EC Warm up on 10-12th July Updated 25 March: The Stage Two Report is now available for all drivers and team managers\,  download or view it here (PDF) The host club for the 2026 European Championship for 1/10 Electric On Road\,  Luxembourg[..]\nhttps://www.efra.ws/events/ec-1-10-electric-on-road-luxembourg/
URL:https://www.efra.ws/events/ec-1-10-electric-on-road-luxembourg/
END:VEVENT
END:VCALENDAR