BEGIN:VCALENDAR
VERSION:2.0
PRODID:-//eventon.com NONSGML v1.0//EN
BEGIN:VEVENT
UID:69e6bdc0c1cf0
DTSTAMP:20260420T235856
DTSTART:20260727
DTEND:20260801
TZID:Europe/Berlin
LOCATION:ERT Steyregg ERT-Steyregg\,  ERT\,  4221
SUMMARY:EC '26 1/10 Electric Off Road Steyregg\,  Austria 🇦🇹
DESCRIPTION: Warm-Up Race Date: 22.-24. May 2026 Registration via MyRCM\,  opens March 30th at 8pm CEST Limted to 50 drivers\,  so be fast with your registration! Stage Two Report The host club for the 2026 European Championship for 1/10 Electric Buggy\,  ERT Steyregg\,  has provided the Stage One Report for the[..]\nhttps://www.efra.ws/events/ec-1-10-electric-off-road-steyregg-austria/
URL:https://www.efra.ws/events/ec-1-10-electric-off-road-steyregg-austria/
END:VEVENT
END:VCALENDAR