BEGIN:VCALENDAR
VERSION:2.0
PRODID:-//eventon.com NONSGML v1.0//EN
BEGIN:VEVENT
UID:69e6bda58da29
DTSTAMP:20260420T235829
DTSTART:20260727
DTEND:20260801
TZID:Europe/Zurich
LOCATION:LOSTALLO - MINI RACING TICINO E MOESA 6558 Svizzera
SUMMARY:IFMAR WC '26 Large Scale Open & Sport Lostallo\,  Switzerland 🇨🇭
DESCRIPTION: The host club for the 2026 World Championship for Large Scale Touring Car\,  MRTM Lostallo\,  has provided the Stage One Report for the event\,  scheduled for 27 July to 1 August. Click here for the complete Stage One Report from the club! Additional information will be provided as it is[..]\nhttps://www.efra.ws/events/ifmar-wc-large-scale-open-sport-lostallo-switzerland/
URL:https://www.efra.ws/events/ifmar-wc-large-scale-open-sport-lostallo-switzerland/
END:VEVENT
END:VCALENDAR