BEGIN:VCALENDAR
VERSION:2.0
PRODID:-//eventon.com NONSGML v1.0//EN
BEGIN:VEVENT
UID:69e6bdbf02739
DTSTAMP:20260420T235855
DTSTART:20260722
DTEND:20260725
TZID:Europe/Paris
LOCATION:BMRC Bourg Mini Racing Car Chem. Firmin Vermeil
SUMMARY:EC '26 1/8 IC Track Bourg en Bresse\,  France 🇫🇷
DESCRIPTION: The host club for the 2026 European Championship for 1/8 IC Track\,  Bourg Mini Racing Car\,  has provided the Stage One Report for the event\,  scheduled for 22-25 July. The Stage One Report contains information about the track\,  accommodations nearby and travel information to the city of Bourg-en-Bresse. More information[..]\nhttps://www.efra.ws/events/ec-1-8-ic-track-bourg-en-bresse-france/
URL:https://www.efra.ws/events/ec-1-8-ic-track-bourg-en-bresse-france/
END:VEVENT
END:VCALENDAR