BEGIN:VCALENDAR
VERSION:2.0
PRODID:-//eventon.com NONSGML v1.0//EN
BEGIN:VEVENT
UID:69e6ddd5af5a0
DTSTAMP:20260421T021549
DTSTART:20260717
DTEND:20260719
TZID:Europe/Warsaw
LOCATION:RC Rakvere Ringtee 4\,  Taaravainu\,  44420 Lääne-Virumaa
SUMMARY:EC '26 1/8 Off Road Electric Rakvere\,  Estonia 🇪🇪
DESCRIPTION: The host club for the 2026 European Championship for 1/8 E Buggy\,  RC Rakvere\,  has provided the Stage One Report for the event\,  scheduled for 17-19 July. The Stage One Report contains information about the track\,  accommodations nearby and travel information to the city of Rakvere. More information will be[..]\nhttps://www.efra.ws/events/ec-1-8-off-road-electric-rakvere-estonia/
URL:https://www.efra.ws/events/ec-1-8-off-road-electric-rakvere-estonia/
END:VEVENT
END:VCALENDAR