BEGIN:VCALENDAR
VERSION:2.0
PRODID:-//eventon.com NONSGML v1.0//EN
BEGIN:VEVENT
UID:69e6bdbfb9e0a
DTSTAMP:20260420T235855
DTSTART:20260713
DTEND:20260718
TZID:Europe/Prague
LOCATION:RC Autoclub Stařeč Pikharta 562\,  675 22
SUMMARY:EC '26 Large Scale Off Road Stařeč\,  Czech Republic 🇨🇿
DESCRIPTION: The host club for the 2026 European Championship for Large Scale Off Road\,  RCA Stařeč\,  has provided the Stage One Report for the event\,  scheduled for 13-18 July. The Stage One Report contains information about the track\,  accommodations nearby and travel information to the city of Stařeč. More information will[..]\nhttps://www.efra.ws/events/ec-large-scale-off-road-starec-czech-republic/
URL:https://www.efra.ws/events/ec-large-scale-off-road-starec-czech-republic/
END:VEVENT
END:VCALENDAR