BEGIN:VCALENDAR
VERSION:2.0
PRODID:-//eventon.com NONSGML v1.0//EN
BEGIN:VEVENT
UID:69e6bdc03b3c5
DTSTAMP:20260420T235856
DTSTART:20260605
DTEND:20260607
TZID:Pacific/Midway
LOCATION:Ospyteam R/C Off- Road Circuit Model Via Staffoli\,  30\,  25064 Gussago BS
SUMMARY:IR '26 1/8 Off Road The Italian Race Gussago\,  Italy 🇮🇹
DESCRIPTION: \nhttps://www.efra.ws/events/ir-1-8-off-road-the-italian-race-gussago-italy/
URL:https://www.efra.ws/events/ir-1-8-off-road-the-italian-race-gussago-italy/
END:VEVENT
END:VCALENDAR