BEGIN:VCALENDAR
VERSION:2.0
PRODID:-//eventon.com NONSGML v1.0//EN
BEGIN:VEVENT
UID:69e6bde53ed00
DTSTAMP:20260420T235933
DTSTART:20260606
DTEND:20260607
TZID:Pacific/Midway
LOCATION:
SUMMARY:GP '26 Large Scale Open & Sport & F1 Macon\,  France 🇫🇷
DESCRIPTION: \nhttps://www.efra.ws/events/gp-large-scale-open-sport-f1-macon-france/
URL:https://www.efra.ws/events/gp-large-scale-open-sport-f1-macon-france/
END:VEVENT
END:VCALENDAR