BEGIN:VCALENDAR
VERSION:2.0
PRODID:-//eventon.com NONSGML v1.0//EN
BEGIN:VEVENT
UID:69e6bd9828d6b
DTSTAMP:20260420T235816
DTSTART:20260527
DTEND:20260530
TZID:Europe/Lisbon
LOCATION:Associação de Modelismo de Vila Real R. Lugar da Fraga 17\,  5000-471
SUMMARY:EC '26 GT8 Vila Real Portugal 🇵🇹
DESCRIPTION: The host club for the 2026 European Championship for GT8 and GTE\,  AMVR Associaçãode Modelismo de Vila Real has provided the Stage One Report for the event\,  scheduled for 27-30 May. The Stage One Report contains information about the track\,  accommodations nearby and travel information to the city of Vila[..]\nhttps://www.efra.ws/events/ec-gt8-vila-real-portugal/
URL:https://www.efra.ws/events/ec-gt8-vila-real-portugal/
END:VEVENT
END:VCALENDAR