BEGIN:VCALENDAR
VERSION:2.0
PRODID:-//eventon.com NONSGML v1.0//EN
BEGIN:VEVENT
UID:69e623abf0996
DTSTAMP:20260420T130131
DTSTART:20260523
DTEND:20260524
TZID:Pacific/Midway
LOCATION:
SUMMARY:GP '26 Large Scale Off Road Sonseca\,  Spain 🇪🇸
DESCRIPTION: Updated 16 Feb: An information pack has been provided by AECAR and the host club of this event\,  you can download the complete information here (PDF) The link to driver registration is available online\,  click here to register. Registration is open for 3 categories: 2WD\,  4WD\,  short course. An event[..]\nhttps://www.efra.ws/events/gp-large-scale-off-road-sonseca-spain/
URL:https://www.efra.ws/events/gp-large-scale-off-road-sonseca-spain/
END:VEVENT
END:VCALENDAR