BEGIN:VCALENDAR
VERSION:2.0
PRODID:-//eventon.com NONSGML v1.0//EN
BEGIN:VEVENT
UID:69e6bda72a0ad
DTSTAMP:20260420T235831
DTSTART:20260502
DTEND:20260503
TZID:Pacific/Midway
LOCATION:Luxembourg Model Car Club Mini Circuit "Ville de Luxembourg"
SUMMARY:GP '26 Large Scale Open & Sport & F1 Luxembourg 🇱🇺
DESCRIPTION: \nhttps://www.efra.ws/events/gp-large-scale-open-sport-f1-luxembourg/
URL:https://www.efra.ws/events/gp-large-scale-open-sport-f1-luxembourg/
END:VEVENT
END:VCALENDAR