BEGIN:VCALENDAR
VERSION:2.0
PRODID:-//eventon.com NONSGML v1.0//EN
BEGIN:VEVENT
UID:69e6bde38a4d1
DTSTAMP:20260420T235931
DTSTART:20260416
DTEND:20260419
TZID:Europe/Rome
LOCATION:Paradise RC Arena Via Marconi - Sala polifunzionale ex Condor
SUMMARY:EC '26 1/12 Messina Sicily\,  Italy 🇮🇹
DESCRIPTION: The organisers have released a new Stage 2 report in both English and Italian. You can download them below:🇬🇧 English [PDF Download]🇮🇹 Italian [PDF Download] Mark Payne\,  12th Section Chairman of BRCA 1/12th Electric Circuit\,  visited Paradise RC Arena\,  the host club for the 2026 EC 12th Track\,  recently. Mark[..]\nhttps://www.efra.ws/events/ec-1-12-messina-sicily-italy/
URL:https://www.efra.ws/events/ec-1-12-messina-sicily-italy/
END:VEVENT
END:VCALENDAR