BEGIN:VCALENDAR
VERSION:2.0
PRODID:-//eventon.com NONSGML v1.0//EN
BEGIN:VEVENT
UID:69e6bda6124b3
DTSTAMP:20260420T235830
DTSTART:20260401
DTEND:20260405
TZID:Pacific/Midway
LOCATION:
SUMMARY:IFMAR WC '26 1/10 Electric Track Foshan\,  China 🇨🇳
DESCRIPTION: \nhttps://www.efra.ws/events/ifmar-wc-1-10-electric-track-foshan-china/
URL:https://www.efra.ws/events/ifmar-wc-1-10-electric-track-foshan-china/
END:VEVENT
END:VCALENDAR