BEGIN:VCALENDAR
VERSION:2.0
PRODID:-//eventon.com NONSGML v1.0//EN
BEGIN:VEVENT
UID:69e74bc1eb4fc
DTSTAMP:20260421T100449
DTSTART:20250929T000100Z
DTEND:20251009T000100Z
TZID:Australia/Sydney
LOCATION:
SUMMARY:WC ’25 10th Elec Off Road | Sydney\,  Australia 🇦🇺
DESCRIPTION: This is recent footage of the Australian Nationals &#8211; just a sample of what to expect for the 2025 EC! The most recent Stage 2 Report is available here (PDF)\nhttps://www.efra.ws/events/wc-25-10th-elec-off-road-sydney-australia/
URL:https://www.efra.ws/events/wc-25-10th-elec-off-road-sydney-australia/
END:VEVENT
END:VCALENDAR