BEGIN:VCALENDAR
VERSION:2.0
PRODID:-//eventon.com NONSGML v1.0//EN
BEGIN:VEVENT
UID:69e74bc17204c
DTSTAMP:20260421T100449
DTSTART:20250914T144900Z
DTEND:20250920T144900Z
TZID:America/Bogota
LOCATION:
SUMMARY:WC ’25 GT8/GTE | Cach\,  Chile 🇨🇱
DESCRIPTION: The organisers have released the Stage 2 Report for this event here (PDF Download) Updated 14 April &#8211; Stage 1 information for this event is available here (PDF) and includes club details\,  accomodation and travel information.\nhttps://www.efra.ws/events/wc-25-gt8-gte-cach-chile/
URL:https://www.efra.ws/events/wc-25-gt8-gte-cach-chile/
END:VEVENT
END:VCALENDAR