BEGIN:VCALENDAR
VERSION:2.0
PRODID:-//eventon.com NONSGML v1.0//EN
BEGIN:VEVENT
UID:69e5f94452896
DTSTAMP:20260420T100036
DTSTART:20250826T070000Z
DTEND:20250830T170000Z
TZID:Europe/Lisbon
LOCATION:
SUMMARY:WC ’25 8th E Buggy | Barcelos\,  Portugal 🇵🇹
DESCRIPTION: The organisers have released the new Stage 2 report you can download it here (PDF Download) A new Stage 1 report is available here (PDF download) which features track information and schedule information (updated 24 April) This is 2022 footage from the amazing Barcelos track – just a sample of[..]\nhttps://www.efra.ws/events/wc-25-8th-e-buggy-barcelos-portugal/
URL:https://www.efra.ws/events/wc-25-8th-e-buggy-barcelos-portugal/
END:VEVENT
END:VCALENDAR