BEGIN:VCALENDAR
VERSION:2.0
PRODID:-//eventon.com NONSGML v1.0//EN
BEGIN:VEVENT
UID:69e5f6f1de92e
DTSTAMP:20260420T095041
DTSTART:20250721T145300Z
DTEND:20250726T145300Z
TZID:Europe/Berlin
LOCATION:WMW RC-BUGGY-RACING TEAM FEHRING Fabrikstraße  8350 
SUMMARY:EC ’25 Large Scale Off Road | Fehring\,  Austria 🇦🇹
DESCRIPTION: This is 2022 footage from the huge Fehring – just a sample of what to expect for the 2025 EC! Stage 1 information will be provided as soon as it is available. Updated 29 May &#8211; Registration for camping space is available on the WMW Fehring club website.\nhttps://www.efra.ws/events/ec-25-large-scale-off-road-fehring-austria/
URL:https://www.efra.ws/events/ec-25-large-scale-off-road-fehring-austria/
END:VEVENT
END:VCALENDAR