BEGIN:VCALENDAR
VERSION:2.0
PRODID:-//eventon.com NONSGML v1.0//EN
BEGIN:VEVENT
UID:69ece5acd572c
DTSTAMP:20260425T160252
DTSTART:20240723
DTEND:20240727
TZID:Europe/Berlin
LOCATION:
SUMMARY:EC A ’24 1/8 IC Off Road | Sacile\,  Italy 🇮🇹
DESCRIPTION: Livestreams Check out the OngaroRing website with all the info for this event https://www.ongaroring.it/euro-buggy-2024/ All of the information for this event is available in English and Italian on the website above: Location Track Information Hotel and accomodation Race Program\nhttps://www.efra.ws/events/ec-a-24-1-8-ic-off-road-italy/
URL:https://www.efra.ws/events/ec-a-24-1-8-ic-off-road-italy/
END:VEVENT
END:VCALENDAR