BEGIN:VCALENDAR
VERSION:2.0
PRODID:-//eventon.com NONSGML v1.0//EN
BEGIN:VEVENT
UID:69e502cb9e48c
DTSTAMP:20260419T162859
DTSTART:20240619
DTEND:20240622
TZID:Europe/Paris
LOCATION:Model Club Thionvillois Rue du Couronné 57100
SUMMARY:EC '24 1/10 IC Track | Thionville\,  France 🇫🇷
DESCRIPTION: Timing and schedule for the event can be found here Check out the news feed for finals day here: https://m.me/j/Abbar3zjDcJBx8M5/ Gallery for the event can be found here Manufacturer stats for this event can be found here Livestream Updated 2 April The Stage 1 Report with all the information so[..]\nhttps://www.efra.ws/events/ec-24-1-10-ic-track-france/
URL:https://www.efra.ws/events/ec-24-1-10-ic-track-france/
END:VEVENT
END:VCALENDAR